BEGIN:VCALENDAR
VERSION:2.0
PRODID:-//CAP – Debug2 - nov2025 - ECPv6.15.20//NONSGML v1.0//EN
CALSCALE:GREGORIAN
METHOD:PUBLISH
X-ORIGINAL-URL:https://debug2.cap-epalinges.ch
X-WR-CALDESC:Évènements pour CAP – Debug2 - nov2025
REFRESH-INTERVAL;VALUE=DURATION:PT1H
X-Robots-Tag:noindex
X-PUBLISHED-TTL:PT1H
BEGIN:VTIMEZONE
TZID:Europe/Zurich
BEGIN:DAYLIGHT
TZOFFSETFROM:+0100
TZOFFSETTO:+0200
TZNAME:CEST
DTSTART:20240331T010000
END:DAYLIGHT
BEGIN:STANDARD
TZOFFSETFROM:+0200
TZOFFSETTO:+0100
TZNAME:CET
DTSTART:20241027T010000
END:STANDARD
BEGIN:DAYLIGHT
TZOFFSETFROM:+0100
TZOFFSETTO:+0200
TZNAME:CEST
DTSTART:20250330T010000
END:DAYLIGHT
BEGIN:STANDARD
TZOFFSETFROM:+0200
TZOFFSETTO:+0100
TZNAME:CET
DTSTART:20251026T010000
END:STANDARD
BEGIN:DAYLIGHT
TZOFFSETFROM:+0100
TZOFFSETTO:+0200
TZNAME:CEST
DTSTART:20260329T010000
END:DAYLIGHT
BEGIN:STANDARD
TZOFFSETFROM:+0200
TZOFFSETTO:+0100
TZNAME:CET
DTSTART:20261025T010000
END:STANDARD
END:VTIMEZONE
BEGIN:VEVENT
DTSTART;TZID=Europe/Zurich:20250402T120000
DTEND;TZID=Europe/Zurich:20250402T173000
DTSTAMP:20260423T235922
CREATED:20250327T093512Z
LAST-MODIFIED:20250327T093512Z
UID:10019509-1743595200-1743615000@debug2.cap-epalinges.ch
SUMMARY:Mercredi 9-11 ans : Bricolages de Pâques et décoration d’oeufs
DESCRIPTION:Pâques approchant à pas de géant.e\, on va en profiter pour bricoler des trucs sympas et faciles. Aussi\, on va s’essayer à différentes manières de décorer un œuf (dur\, bien sûr). En parlant de Pâques\, tu savais que les lapins étaient d’excellent.e.s athlètes ? Le record du monde de saut en hauteur de lapin est de 99\,5 cm (réalisé par un lapin danois très sérieux).  \n\n\nLES MERCREDIS 9-11 ANS : C’EST QUOI ?\nC’est l’occasion de prendre des repas ensemble\, de passer des moments sympas avec tes amis et de faire plein d’activités funs ! Ces activités sont encadrées par des animateurs socioculturels. Le programme des activités est décidé ensemble chaque mois. \nÇA SE PASSE COMMENT ?\nTous les mercredis (sauf vacances scolaires et fériés) :\nRejoins-nous au CAP (derrière le parking de la Migros\, à la Croix-Blanche)\,\nsoit pour le pique-nique dès 12h00 et / ou directement à 13h30 pour l’activité.\nEn option\, un rdv est proposé à 12h devant la bibliothèque de l’école de Bois-Murat pour monter ensemble en bus au CAP et ensuite pique-niquer au centre. \nN’OUBLIE PAS DE PRENDRE TON PIQUE-NIQUE ET TON ABONNEMENT DE BUS AVEC TOI ! \nPuis de 13h30 à 17h30\, nous faisons des activités ensemble :\nbricolages\, jeux\, sport\, films\, ateliers cuisine\, visites d’expositions\, théâtre\, balades\, etc… \nCOMMENT S’INSCRIRE ?\nTu peux t’inscrire pour l’activité ou pour le pique-nique & l’activité !\nInscription : Dorénavant\, les inscriptions aux activités Mercredis 9-11 ans se font en ligne\, sur le site du CAP  toutes les infos ici !\nRenseignements complémentaires auprès des animateurs du CAP au 079 638 53 99. \nCoût : L’adhésion aux Mercredis 9-11 ans coûte 5.- par année scolaire + une participation de 5.- par mercredi est facturée (goûter compris). Le paiement des activités est souhaité dans un délai de 10 jours dès l’inscription\, par virement bancaire à :\nCommune d’Epalinges\, Boursier communal CAP \nCCP : 12-795329-8 / IBAN : CH18 0900 0000 12795329 8 \nMerci de préciser le nom et prénom de l’enfant et la période des activités réglées.\n* Si nécessaire\, des bulletins de versement sont à disposition auprès de l’équipe d’animation \nLe programme des activités est diffusé et change chaque mois.\nPour participer aux activités\, il faut être inscrit et être membre JUNIOR du CAP. Ouverture des inscriptions en ligne en général à la fin de chaque mois pour le mois suivant\, places limitées.
URL:https://debug2.cap-epalinges.ch/event/mercredi-9-11-ans-bricolages-de-paques-et-decoration-doeufs/
LOCATION:Centre d’animation\, GMX9+RC\, 1066 Épalinges\, Suisse
CATEGORIES:Les mercredis 9-11 ans
ATTACH;FMTTYPE=image/jpeg:https://debug2.cap-epalinges.ch/wp-content/uploads/2025/03/easter-1238465_1280.jpg
GEO:46.549578;6.668552
X-APPLE-STRUCTURED-LOCATION;VALUE=URI;X-ADDRESS=Centre d’animation GMX9+RC 1066 Épalinges Suisse;X-APPLE-RADIUS=500;X-TITLE=GMX9+RC:geo:6.668552,46.549578
END:VEVENT
BEGIN:VEVENT
DTSTART;TZID=Europe/Zurich:20250430T120000
DTEND;TZID=Europe/Zurich:20250430T173000
DTSTAMP:20260423T235922
CREATED:20250327T093721Z
LAST-MODIFIED:20250410T153739Z
UID:10019510-1746014400-1746034200@debug2.cap-epalinges.ch
SUMMARY:Mercredi 9-11 ans : Pièce de théâtre à Vidy et flânage au bordu | Complet
DESCRIPTION:On se rend au théâtre de Vidy pour aller voir la pièce de théâtre « à chacun son monstre ». On profitera aussi d’être tout proche du lac pour y flâner et reprendre contact avec les rives du Léman (y’a des maxi places de jeu dans la zone !). S’il fait soleil\, on pourra même manger une glace qui aura le bon goût du printemps. \n\n\nLES MERCREDIS 9-11 ANS : C’EST QUOI ?\nC’est l’occasion de prendre des repas ensemble\, de passer des moments sympas avec tes amis et de faire plein d’activités funs ! Ces activités sont encadrées par des animateurs socioculturels. Le programme des activités est décidé ensemble chaque mois. \nÇA SE PASSE COMMENT ?\nTous les mercredis (sauf vacances scolaires et fériés) :\nRejoins-nous au CAP (derrière le parking de la Migros\, à la Croix-Blanche)\,\nsoit pour le pique-nique dès 12h00 et / ou directement à 13h30 pour l’activité.\nEn option\, un rdv est proposé à 12h devant la bibliothèque de l’école de Bois-Murat pour monter ensemble en bus au CAP et ensuite pique-niquer au centre. \nN’OUBLIE PAS DE PRENDRE TON PIQUE-NIQUE ET TON ABONNEMENT DE BUS AVEC TOI ! \nPuis de 13h30 à 17h30\, nous faisons des activités ensemble :\nbricolages\, jeux\, sport\, films\, ateliers cuisine\, visites d’expositions\, théâtre\, balades\, etc… \nCOMMENT S’INSCRIRE ?\nTu peux t’inscrire pour l’activité ou pour le pique-nique & l’activité !\nInscription : Dorénavant\, les inscriptions aux activités Mercredis 9-11 ans se font en ligne\, sur le site du CAP  toutes les infos ici !\nRenseignements complémentaires auprès des animateurs du CAP au 079 638 53 99. \nCoût : L’adhésion aux Mercredis 9-11 ans coûte 5.- par année scolaire + une participation de 5.- par mercredi est facturée (goûter compris). Le paiement des activités est souhaité dans un délai de 10 jours dès l’inscription\, par virement bancaire à :\nCommune d’Epalinges\, Boursier communal CAP \nCCP : 12-795329-8 / IBAN : CH18 0900 0000 12795329 8 \nMerci de préciser le nom et prénom de l’enfant et la période des activités réglées.\n* Si nécessaire\, des bulletins de versement sont à disposition auprès de l’équipe d’animation \nLe programme des activités est diffusé et change chaque mois.\nPour participer aux activités\, il faut être inscrit et être membre JUNIOR du CAP. Ouverture des inscriptions en ligne en général à la fin de chaque mois pour le mois suivant\, places limitées.
URL:https://debug2.cap-epalinges.ch/event/mercredi-9-11-ans-piece-de-theatre-a-vidy-et-flanage-au-bordu/
LOCATION:Centre d’animation\, GMX9+RC\, 1066 Épalinges\, Suisse
CATEGORIES:Les mercredis 9-11 ans
ATTACH;FMTTYPE=image/jpeg:https://debug2.cap-epalinges.ch/wp-content/uploads/2022/06/atelier-theatre.jpeg
GEO:46.549578;6.668552
X-APPLE-STRUCTURED-LOCATION;VALUE=URI;X-ADDRESS=Centre d’animation GMX9+RC 1066 Épalinges Suisse;X-APPLE-RADIUS=500;X-TITLE=GMX9+RC:geo:6.668552,46.549578
END:VEVENT
END:VCALENDAR