BEGIN:VCALENDAR
VERSION:2.0
PRODID:-//CAP – Debug2 - nov2025 - ECPv6.15.20//NONSGML v1.0//EN
CALSCALE:GREGORIAN
METHOD:PUBLISH
X-WR-CALNAME:CAP – Debug2 - nov2025
X-ORIGINAL-URL:https://debug2.cap-epalinges.ch
X-WR-CALDESC:Évènements pour CAP – Debug2 - nov2025
REFRESH-INTERVAL;VALUE=DURATION:PT1H
X-Robots-Tag:noindex
X-PUBLISHED-TTL:PT1H
BEGIN:VTIMEZONE
TZID:Europe/Zurich
BEGIN:DAYLIGHT
TZOFFSETFROM:+0100
TZOFFSETTO:+0200
TZNAME:CEST
DTSTART:20240331T010000
END:DAYLIGHT
BEGIN:STANDARD
TZOFFSETFROM:+0200
TZOFFSETTO:+0100
TZNAME:CET
DTSTART:20241027T010000
END:STANDARD
BEGIN:DAYLIGHT
TZOFFSETFROM:+0100
TZOFFSETTO:+0200
TZNAME:CEST
DTSTART:20250330T010000
END:DAYLIGHT
BEGIN:STANDARD
TZOFFSETFROM:+0200
TZOFFSETTO:+0100
TZNAME:CET
DTSTART:20251026T010000
END:STANDARD
BEGIN:DAYLIGHT
TZOFFSETFROM:+0100
TZOFFSETTO:+0200
TZNAME:CEST
DTSTART:20260329T010000
END:DAYLIGHT
BEGIN:STANDARD
TZOFFSETFROM:+0200
TZOFFSETTO:+0100
TZNAME:CET
DTSTART:20261025T010000
END:STANDARD
END:VTIMEZONE
BEGIN:VEVENT
DTSTART;TZID=Europe/Zurich:20250507T120000
DTEND;TZID=Europe/Zurich:20250507T173000
DTSTAMP:20260423T222423
CREATED:20250501T085244Z
LAST-MODIFIED:20250501T085259Z
UID:10020024-1746619200-1746639000@debug2.cap-epalinges.ch
SUMMARY:Mercredi 9-11 ans : Sortie en forêt
DESCRIPTION:C’est tellement bien d’être dans la forêt qu’on y retourne ce mois ! Marshmallows grillés au milieu des arbres et pieds dans l’eau de la rivière\, vive le printemps ! \n\n\nLES MERCREDIS 9-11 ANS : C’EST QUOI ?\nC’est l’occasion de prendre des repas ensemble\, de passer des moments sympas avec tes amis et de faire plein d’activités funs ! Ces activités sont encadrées par des animateurs socioculturels. Le programme des activités est décidé ensemble chaque mois. \nÇA SE PASSE COMMENT ?\nTous les mercredis (sauf vacances scolaires et fériés) :\nRejoins-nous au CAP (derrière le parking de la Migros\, à la Croix-Blanche)\,\nsoit pour le pique-nique dès 12h00 et / ou directement à 13h30 pour l’activité.\nEn option\, un rdv est proposé à 12h devant la bibliothèque de l’école de Bois-Murat pour monter ensemble en bus au CAP et ensuite pique-niquer au centre. \nN’OUBLIE PAS DE PRENDRE TON PIQUE-NIQUE ET TON ABONNEMENT DE BUS AVEC TOI ! \nPuis de 13h30 à 17h30\, nous faisons des activités ensemble :\nbricolages\, jeux\, sport\, films\, ateliers cuisine\, visites d’expositions\, théâtre\, balades\, etc… \nCOMMENT S’INSCRIRE ?\nTu peux t’inscrire pour l’activité ou pour le pique-nique & l’activité !\nInscription : Dorénavant\, les inscriptions aux activités Mercredis 9-11 ans se font en ligne\, sur le site du CAP  toutes les infos ici !\nRenseignements complémentaires auprès des animateurs du CAP au 079 638 53 99. \nCoût : L’adhésion aux Mercredis 9-11 ans coûte 5.- par année scolaire + une participation de 5.- par mercredi est facturée (goûter compris). Le paiement des activités est souhaité dans un délai de 10 jours dès l’inscription\, par virement bancaire à :\nCommune d’Epalinges\, Boursier communal CAP \nCCP : 12-795329-8 / IBAN : CH18 0900 0000 12795329 8 \nMerci de préciser le nom et prénom de l’enfant et la période des activités réglées.\n* Si nécessaire\, des bulletins de versement sont à disposition auprès de l’équipe d’animation \nLe programme des activités est diffusé et change chaque mois.\nPour participer aux activités\, il faut être inscrit et être membre JUNIOR du CAP. Ouverture des inscriptions en ligne en général à la fin de chaque mois pour le mois suivant\, places limitées.
URL:https://debug2.cap-epalinges.ch/event/mercredi-9-11-ans-sortie-en-foret-5/
LOCATION:Centre d’animation\, GMX9+RC\, 1066 Épalinges\, Suisse
CATEGORIES:Les mercredis 9-11 ans
ATTACH;FMTTYPE=image/jpeg:https://debug2.cap-epalinges.ch/wp-content/uploads/2022/05/download.jpg
GEO:46.549578;6.668552
X-APPLE-STRUCTURED-LOCATION;VALUE=URI;X-ADDRESS=Centre d’animation GMX9+RC 1066 Épalinges Suisse;X-APPLE-RADIUS=500;X-TITLE=GMX9+RC:geo:6.668552,46.549578
END:VEVENT
BEGIN:VEVENT
DTSTART;TZID=Europe/Zurich:20250514T120000
DTEND;TZID=Europe/Zurich:20250514T173000
DTSTAMP:20260423T222423
CREATED:20250501T085841Z
LAST-MODIFIED:20250501T085841Z
UID:10020025-1747224000-1747243800@debug2.cap-epalinges.ch
SUMMARY:Mercredi 9-11 ans : Initiation au skateboard
DESCRIPTION:On se rend à Vidy pour une initiation au Skateboard avec des moniteurices du très connu Skatepark de La Fièvre ! Pas sûr qu’à la fin de l’après-midi on sera déjà capable de faire des Ollies mais on se sentira certainement déjà un peu plus à l’aise sur une planche à roulettes. \n\n\nLES MERCREDIS 9-11 ANS : C’EST QUOI ?\nC’est l’occasion de prendre des repas ensemble\, de passer des moments sympas avec tes amis et de faire plein d’activités funs ! Ces activités sont encadrées par des animateurs socioculturels. Le programme des activités est décidé ensemble chaque mois. \nÇA SE PASSE COMMENT ?\nTous les mercredis (sauf vacances scolaires et fériés) :\nRejoins-nous au CAP (derrière le parking de la Migros\, à la Croix-Blanche)\,\nsoit pour le pique-nique dès 12h00 et / ou directement à 13h30 pour l’activité.\nEn option\, un rdv est proposé à 12h devant la bibliothèque de l’école de Bois-Murat pour monter ensemble en bus au CAP et ensuite pique-niquer au centre. \nN’OUBLIE PAS DE PRENDRE TON PIQUE-NIQUE ET TON ABONNEMENT DE BUS AVEC TOI ! \nPuis de 13h30 à 17h30\, nous faisons des activités ensemble :\nbricolages\, jeux\, sport\, films\, ateliers cuisine\, visites d’expositions\, théâtre\, balades\, etc… \nCOMMENT S’INSCRIRE ?\nTu peux t’inscrire pour l’activité ou pour le pique-nique & l’activité !\nInscription : Dorénavant\, les inscriptions aux activités Mercredis 9-11 ans se font en ligne\, sur le site du CAP  toutes les infos ici !\nRenseignements complémentaires auprès des animateurs du CAP au 079 638 53 99. \nCoût : L’adhésion aux Mercredis 9-11 ans coûte 5.- par année scolaire + une participation de 5.- par mercredi est facturée (goûter compris). Le paiement des activités est souhaité dans un délai de 10 jours dès l’inscription\, par virement bancaire à :\nCommune d’Epalinges\, Boursier communal CAP \nCCP : 12-795329-8 / IBAN : CH18 0900 0000 12795329 8 \nMerci de préciser le nom et prénom de l’enfant et la période des activités réglées.\n* Si nécessaire\, des bulletins de versement sont à disposition auprès de l’équipe d’animation \nLe programme des activités est diffusé et change chaque mois.\nPour participer aux activités\, il faut être inscrit et être membre JUNIOR du CAP. Ouverture des inscriptions en ligne en général à la fin de chaque mois pour le mois suivant\, places limitées.
URL:https://debug2.cap-epalinges.ch/event/mercredi-9-11-ans-initiation-au-skateboard/
LOCATION:Centre d’animation\, GMX9+RC\, 1066 Épalinges\, Suisse
CATEGORIES:Les mercredis 9-11 ans
ATTACH;FMTTYPE=image/jpeg:https://debug2.cap-epalinges.ch/wp-content/uploads/2025/05/close-up-feet-practising-with-skateboard-scaled.jpg
GEO:46.549578;6.668552
X-APPLE-STRUCTURED-LOCATION;VALUE=URI;X-ADDRESS=Centre d’animation GMX9+RC 1066 Épalinges Suisse;X-APPLE-RADIUS=500;X-TITLE=GMX9+RC:geo:6.668552,46.549578
END:VEVENT
BEGIN:VEVENT
DTSTART;TZID=Europe/Zurich:20250521T120000
DTEND;TZID=Europe/Zurich:20250521T173000
DTSTAMP:20260423T222423
CREATED:20250501T090010Z
LAST-MODIFIED:20250501T090010Z
UID:10020026-1747828800-1747848600@debug2.cap-epalinges.ch
SUMMARY:Mercredi 9-11 ans : Fête de la nature
DESCRIPTION:C’est la fête de la nature à Bois-Murat. On y va tranquillos à pied pour y acheter de belles petites plantes à mettre dans notre potager au centre. On participera aussi à un atelier de création de « bombes de graines ». C’est des petites boules de terre et de graines que tu peux lancer quelque part et qui feront pousser des fleurs\, trop cool ! \n\n\nLES MERCREDIS 9-11 ANS : C’EST QUOI ?\nC’est l’occasion de prendre des repas ensemble\, de passer des moments sympas avec tes amis et de faire plein d’activités funs ! Ces activités sont encadrées par des animateurs socioculturels. Le programme des activités est décidé ensemble chaque mois. \nÇA SE PASSE COMMENT ?\nTous les mercredis (sauf vacances scolaires et fériés) :\nRejoins-nous au CAP (derrière le parking de la Migros\, à la Croix-Blanche)\,\nsoit pour le pique-nique dès 12h00 et / ou directement à 13h30 pour l’activité.\nEn option\, un rdv est proposé à 12h devant la bibliothèque de l’école de Bois-Murat pour monter ensemble en bus au CAP et ensuite pique-niquer au centre. \nN’OUBLIE PAS DE PRENDRE TON PIQUE-NIQUE ET TON ABONNEMENT DE BUS AVEC TOI ! \nPuis de 13h30 à 17h30\, nous faisons des activités ensemble :\nbricolages\, jeux\, sport\, films\, ateliers cuisine\, visites d’expositions\, théâtre\, balades\, etc… \nCOMMENT S’INSCRIRE ?\nTu peux t’inscrire pour l’activité ou pour le pique-nique & l’activité !\nInscription : Dorénavant\, les inscriptions aux activités Mercredis 9-11 ans se font en ligne\, sur le site du CAP  toutes les infos ici !\nRenseignements complémentaires auprès des animateurs du CAP au 079 638 53 99. \nCoût : L’adhésion aux Mercredis 9-11 ans coûte 5.- par année scolaire + une participation de 5.- par mercredi est facturée (goûter compris). Le paiement des activités est souhaité dans un délai de 10 jours dès l’inscription\, par virement bancaire à :\nCommune d’Epalinges\, Boursier communal CAP \nCCP : 12-795329-8 / IBAN : CH18 0900 0000 12795329 8 \nMerci de préciser le nom et prénom de l’enfant et la période des activités réglées.\n* Si nécessaire\, des bulletins de versement sont à disposition auprès de l’équipe d’animation \nLe programme des activités est diffusé et change chaque mois.\nPour participer aux activités\, il faut être inscrit et être membre JUNIOR du CAP. Ouverture des inscriptions en ligne en général à la fin de chaque mois pour le mois suivant\, places limitées.
URL:https://debug2.cap-epalinges.ch/event/mercredi-9-11-ans-fete-de-la-nature/
LOCATION:Centre d’animation\, GMX9+RC\, 1066 Épalinges\, Suisse
CATEGORIES:Les mercredis 9-11 ans
ATTACH;FMTTYPE=image/jpeg:https://debug2.cap-epalinges.ch/wp-content/uploads/2024/04/pexels-cottonbro-5561310-scaled.jpg
GEO:46.549578;6.668552
X-APPLE-STRUCTURED-LOCATION;VALUE=URI;X-ADDRESS=Centre d’animation GMX9+RC 1066 Épalinges Suisse;X-APPLE-RADIUS=500;X-TITLE=GMX9+RC:geo:6.668552,46.549578
END:VEVENT
END:VCALENDAR