BEGIN:VCALENDAR
VERSION:2.0
PRODID:-//CAP – Debug2 - nov2025 - ECPv6.15.20//NONSGML v1.0//EN
CALSCALE:GREGORIAN
METHOD:PUBLISH
X-WR-CALNAME:CAP – Debug2 - nov2025
X-ORIGINAL-URL:https://debug2.cap-epalinges.ch
X-WR-CALDESC:Évènements pour CAP – Debug2 - nov2025
REFRESH-INTERVAL;VALUE=DURATION:PT1H
X-Robots-Tag:noindex
X-PUBLISHED-TTL:PT1H
BEGIN:VTIMEZONE
TZID:Europe/Zurich
BEGIN:DAYLIGHT
TZOFFSETFROM:+0100
TZOFFSETTO:+0200
TZNAME:CEST
DTSTART:20230326T010000
END:DAYLIGHT
BEGIN:STANDARD
TZOFFSETFROM:+0200
TZOFFSETTO:+0100
TZNAME:CET
DTSTART:20231029T010000
END:STANDARD
BEGIN:DAYLIGHT
TZOFFSETFROM:+0100
TZOFFSETTO:+0200
TZNAME:CEST
DTSTART:20240331T010000
END:DAYLIGHT
BEGIN:STANDARD
TZOFFSETFROM:+0200
TZOFFSETTO:+0100
TZNAME:CET
DTSTART:20241027T010000
END:STANDARD
BEGIN:DAYLIGHT
TZOFFSETFROM:+0100
TZOFFSETTO:+0200
TZNAME:CEST
DTSTART:20250330T010000
END:DAYLIGHT
BEGIN:STANDARD
TZOFFSETFROM:+0200
TZOFFSETTO:+0100
TZNAME:CET
DTSTART:20251026T010000
END:STANDARD
END:VTIMEZONE
BEGIN:VEVENT
DTSTART;TZID=Europe/Zurich:20240615T200000
DTEND;TZID=Europe/Zurich:20240615T210000
DTSTAMP:20260424T163621
CREATED:20240522T084041Z
LAST-MODIFIED:20240522T090353Z
UID:10018023-1718481600-1718485200@debug2.cap-epalinges.ch
SUMMARY:Spectacle de l'atelier théâtre
DESCRIPTION:Ouverture des portes : 1h avant la représentation\nBuvette sur place (attention cash uniquement)\nEntrée libre\, chapeau à la sortie\nRenseignements : 079 638 53 99\nPour réserver : c’est ici !
URL:https://debug2.cap-epalinges.ch/event/spectacleat/2024-06-15/
LOCATION:Salle de spectacles
CATEGORIES:CAP Pour Tous
ATTACH;FMTTYPE=image/png:https://debug2.cap-epalinges.ch/wp-content/uploads/2024/05/Affiche_AT.png
END:VEVENT
BEGIN:VEVENT
DTSTART;TZID=Europe/Zurich:20240616T170000
DTEND;TZID=Europe/Zurich:20240616T180000
DTSTAMP:20260424T163621
CREATED:20240522T084041Z
LAST-MODIFIED:20240522T090353Z
UID:10018025-1718557200-1718560800@debug2.cap-epalinges.ch
SUMMARY:Spectacle de l'atelier théâtre
DESCRIPTION:Ouverture des portes : 1h avant la représentation\nBuvette sur place (attention cash uniquement)\nEntrée libre\, chapeau à la sortie\nRenseignements : 079 638 53 99\nPour réserver : c’est ici !
URL:https://debug2.cap-epalinges.ch/event/spectacleat/2024-06-16/
LOCATION:Salle de spectacles
CATEGORIES:CAP Pour Tous
ATTACH;FMTTYPE=image/png:https://debug2.cap-epalinges.ch/wp-content/uploads/2024/05/Affiche_AT.png
END:VEVENT
BEGIN:VEVENT
DTSTART;TZID=Europe/Zurich:20240621T160000
DTEND;TZID=Europe/Zurich:20240621T220000
DTSTAMP:20260424T163621
CREATED:20240217T094239Z
LAST-MODIFIED:20240616T210121Z
UID:10017724-1718985600-1719007200@debug2.cap-epalinges.ch
SUMMARY:Fête de la Musique 2024
DESCRIPTION:Les vendredis au CAP comme tu le sais\, c’est trop bien déjà de base ! Et bien\, imagine\, cette année le jour de la fête de la musique va tomber sur un… Devine… Oui un vendredi ! Du coup\, belle fête en perspective sur la place de la Croix-Blanche ! Au programme des concerts\, des stands de boissons et de nourriture\, un moment de scène ouverte et pleins d’autres animations et de possibilités de participer pour toi\, tes ami.e.x.s et ta famille ! \nLe bar à sirop du CAP est de retour ! Annonce-toi à l’équipe d’animation pour venir tenir un moment notre traditionnel bar à sirops. C’est prix libre et toujours aussi bons et variés en goûts. \nL’accueil libre sera fermé à cette occasion\, rejoins-nous à a fête ! Le préau n’aura non plus pas lieu\, mais on vous attend nombreu.se.x.s pour passer ensemble le premier jour de l’été!
URL:https://debug2.cap-epalinges.ch/event/fete-de-la-musique-2024/
LOCATION:Place de la Croix-Blanche\, Place Croix-Blanche\, Épalinges\, 1066\, Suisse
CATEGORIES:CAP Pour Tous
ATTACH;FMTTYPE=image/jpeg:https://debug2.cap-epalinges.ch/wp-content/uploads/2024/06/FlyerAffiche-Fete-de-la-musique_FP2024-3-scaled.jpg
END:VEVENT
END:VCALENDAR