BEGIN:VCALENDAR
VERSION:2.0
PRODID:-//CAP – Debug2 - nov2025 - ECPv6.15.20//NONSGML v1.0//EN
CALSCALE:GREGORIAN
METHOD:PUBLISH
X-ORIGINAL-URL:https://debug2.cap-epalinges.ch
X-WR-CALDESC:Évènements pour CAP – Debug2 - nov2025
REFRESH-INTERVAL;VALUE=DURATION:PT1H
X-Robots-Tag:noindex
X-PUBLISHED-TTL:PT1H
BEGIN:VTIMEZONE
TZID:Europe/Zurich
BEGIN:DAYLIGHT
TZOFFSETFROM:+0100
TZOFFSETTO:+0200
TZNAME:CEST
DTSTART:20230326T010000
END:DAYLIGHT
BEGIN:STANDARD
TZOFFSETFROM:+0200
TZOFFSETTO:+0100
TZNAME:CET
DTSTART:20231029T010000
END:STANDARD
BEGIN:DAYLIGHT
TZOFFSETFROM:+0100
TZOFFSETTO:+0200
TZNAME:CEST
DTSTART:20240331T010000
END:DAYLIGHT
BEGIN:STANDARD
TZOFFSETFROM:+0200
TZOFFSETTO:+0100
TZNAME:CET
DTSTART:20241027T010000
END:STANDARD
BEGIN:DAYLIGHT
TZOFFSETFROM:+0100
TZOFFSETTO:+0200
TZNAME:CEST
DTSTART:20250330T010000
END:DAYLIGHT
BEGIN:STANDARD
TZOFFSETFROM:+0200
TZOFFSETTO:+0100
TZNAME:CET
DTSTART:20251026T010000
END:STANDARD
END:VTIMEZONE
BEGIN:VEVENT
DTSTART;TZID=Europe/Zurich:20241127T143000
DTEND;TZID=Europe/Zurich:20241127T170000
DTSTAMP:20260424T075926
CREATED:20241122T134111Z
LAST-MODIFIED:20241122T134111Z
UID:10018636-1732717800-1732726800@debug2.cap-epalinges.ch
SUMMARY:Spectacle des Théopopettes au foyer de la grande salle-Entrée libre
DESCRIPTION:Spectacle pour les familles\, habitant.e.x.s et enfants ! Il sera suivi d’un moment d’échanges autour d’un goûter préparé par le CAP. \nVenez nombreu.x.se.s!
URL:https://debug2.cap-epalinges.ch/event/spectacle-des-theopopettes-au-foyer-de-la-grande-salle-entree-libre/
LOCATION:Centre d’animation\, GMX9+RC\, 1066 Épalinges\, Suisse
CATEGORIES:CAP Enfants,CAP Pour Tous
ATTACH;FMTTYPE=image/jpeg:https://debug2.cap-epalinges.ch/wp-content/uploads/2024/11/thumbnail_240917_Theopopettes_Sallaz_Croisettes_WhatsApp.jpg
GEO:46.549578;6.668552
X-APPLE-STRUCTURED-LOCATION;VALUE=URI;X-ADDRESS=Centre d’animation GMX9+RC 1066 Épalinges Suisse;X-APPLE-RADIUS=500;X-TITLE=GMX9+RC:geo:6.668552,46.549578
END:VEVENT
END:VCALENDAR