BEGIN:VCALENDAR
VERSION:2.0
PRODID:-//CAP – Debug2 - nov2025 - ECPv6.15.20//NONSGML v1.0//EN
CALSCALE:GREGORIAN
METHOD:PUBLISH
X-ORIGINAL-URL:https://debug2.cap-epalinges.ch
X-WR-CALDESC:Évènements pour CAP – Debug2 - nov2025
REFRESH-INTERVAL;VALUE=DURATION:PT1H
X-Robots-Tag:noindex
X-PUBLISHED-TTL:PT1H
BEGIN:VTIMEZONE
TZID:Europe/Zurich
BEGIN:DAYLIGHT
TZOFFSETFROM:+0100
TZOFFSETTO:+0200
TZNAME:CEST
DTSTART:20240331T010000
END:DAYLIGHT
BEGIN:STANDARD
TZOFFSETFROM:+0200
TZOFFSETTO:+0100
TZNAME:CET
DTSTART:20241027T010000
END:STANDARD
BEGIN:DAYLIGHT
TZOFFSETFROM:+0100
TZOFFSETTO:+0200
TZNAME:CEST
DTSTART:20250330T010000
END:DAYLIGHT
BEGIN:STANDARD
TZOFFSETFROM:+0200
TZOFFSETTO:+0100
TZNAME:CET
DTSTART:20251026T010000
END:STANDARD
BEGIN:DAYLIGHT
TZOFFSETFROM:+0100
TZOFFSETTO:+0200
TZNAME:CEST
DTSTART:20260329T010000
END:DAYLIGHT
BEGIN:STANDARD
TZOFFSETFROM:+0200
TZOFFSETTO:+0100
TZNAME:CET
DTSTART:20261025T010000
END:STANDARD
END:VTIMEZONE
BEGIN:VEVENT
DTSTART;TZID=Europe/Zurich:20250406T150000
DTEND;TZID=Europe/Zurich:20250406T180000
DTSTAMP:20260423T234849
CREATED:20250328T104428Z
LAST-MODIFIED:20250328T104838Z
UID:10019511-1743951600-1743962400@debug2.cap-epalinges.ch
SUMMARY:Sport pour touxtes - Family Games_évènement spécial clôture de la saison
DESCRIPTION:Pour la clôture de la saison 2024-2025\, le CAP organise les : Family Games \nEn famille et entre ami.e.x.s\, venez vous amuser dans  un parcours d’épreuves accessible à touxtes ! \nSans inscriptions préalables\, en continu de 15h00 à 18h00 à la salle de gym du bâtiment A\, au collège de Bois-Murat ! Goûter offert ! Chaussures de sport en salle souhaitées. \nL’accueil libre dès 12 ans sera fermé à cette occasion. \n 
URL:https://debug2.cap-epalinges.ch/event/sport-pour-touxtes-family-games_evenement-special-cloture-de-la-saison/
CATEGORIES:CAP Enfants,CAP Jeunes,CAP Pour Tous,Les sorties
END:VEVENT
END:VCALENDAR