BEGIN:VCALENDAR
VERSION:2.0
PRODID:-//CAP – Debug2 - nov2025 - ECPv6.15.20//NONSGML v1.0//EN
CALSCALE:GREGORIAN
METHOD:PUBLISH
X-ORIGINAL-URL:https://debug2.cap-epalinges.ch
X-WR-CALDESC:Évènements pour CAP – Debug2 - nov2025
REFRESH-INTERVAL;VALUE=DURATION:PT1H
X-Robots-Tag:noindex
X-PUBLISHED-TTL:PT1H
BEGIN:VTIMEZONE
TZID:Europe/Zurich
BEGIN:DAYLIGHT
TZOFFSETFROM:+0100
TZOFFSETTO:+0200
TZNAME:CEST
DTSTART:20240331T010000
END:DAYLIGHT
BEGIN:STANDARD
TZOFFSETFROM:+0200
TZOFFSETTO:+0100
TZNAME:CET
DTSTART:20241027T010000
END:STANDARD
BEGIN:DAYLIGHT
TZOFFSETFROM:+0100
TZOFFSETTO:+0200
TZNAME:CEST
DTSTART:20250330T010000
END:DAYLIGHT
BEGIN:STANDARD
TZOFFSETFROM:+0200
TZOFFSETTO:+0100
TZNAME:CET
DTSTART:20251026T010000
END:STANDARD
BEGIN:DAYLIGHT
TZOFFSETFROM:+0100
TZOFFSETTO:+0200
TZNAME:CEST
DTSTART:20260329T010000
END:DAYLIGHT
BEGIN:STANDARD
TZOFFSETFROM:+0200
TZOFFSETTO:+0100
TZNAME:CET
DTSTART:20261025T010000
END:STANDARD
END:VTIMEZONE
BEGIN:VEVENT
DTSTART;TZID=Europe/Zurich:20250308T093000
DTEND;TZID=Europe/Zurich:20250308T173000
DTSTAMP:20260420T101508
CREATED:20250219T231316Z
LAST-MODIFIED:20250219T231316Z
UID:10019497-1741426200-1741455000@debug2.cap-epalinges.ch
SUMMARY:Stages d'autodéfense Fem Do Chi:13-15ans
DESCRIPTION:La méthode Fem Do Chi vise à améliorer la capacité des femmes et des adolescentes à s’affirmer\, à se faire respecter et à se protéger au quotidien. Les techniques et outils proposés sont adaptés à toutes les femmes\, et adaptables à toutes les situations d’inconfort\, d’abus ou de danger que celles-ci peuvent vivre. \nPrix: Cet atelier est très largement subventionné par le CAP\, une participation symbolique de 20.- est demandée par personne. Inscription: par mail à info@debug2.cap-epalinges.ch ou auprès des animateurices du CAP\, jusqu’au 1er mars 2025\, une autorisation parentale est requise pour les mineur e•x-s. \nLa méthode s’articule autour d’une réflexion sur les spécificités des violences faites aux femmes et sur l’influence de l’éducation et de la socialisation différenciée en fonction du genre. Le cadre en collectivité vise à créer une dynamique qui favorise la confiance et l’estime de soi et le développement de ses compétences\, ainsi que la solidarité entre femmes. A travers des échanges d’expériences et de savoirs spécifiques\, chacune peut identifier et agir sur ses peurs. \nCette proposition est aussi un joli clin d’œil à la journée internationale des droits des femmes que nous vous invitons à célébrer le 8 mars.
URL:https://debug2.cap-epalinges.ch/event/stages-dautodefense-fem-do-chi13-15ans/
LOCATION:Centre d’animation\, GMX9+RC\, 1066 Épalinges\, Suisse
CATEGORIES:Les sorties
ATTACH;FMTTYPE=image/png:https://debug2.cap-epalinges.ch/wp-content/uploads/2025/02/thumbnail_Sujet.png
GEO:46.549578;6.668552
X-APPLE-STRUCTURED-LOCATION;VALUE=URI;X-ADDRESS=Centre d’animation GMX9+RC 1066 Épalinges Suisse;X-APPLE-RADIUS=500;X-TITLE=GMX9+RC:geo:6.668552,46.549578
END:VEVENT
BEGIN:VEVENT
DTSTART;TZID=Europe/Zurich:20250315T093000
DTEND;TZID=Europe/Zurich:20250315T173000
DTSTAMP:20260420T101508
CREATED:20250219T231503Z
LAST-MODIFIED:20250219T231503Z
UID:10019499-1742031000-1742059800@debug2.cap-epalinges.ch
SUMMARY:Stages d'autodéfense Fem Do Chi: 16-25ans
DESCRIPTION:La méthode Fem Do Chi vise à améliorer la capacité des femmes et des adolescentes à s’affirmer\, à se faire respecter et à se protéger au quotidien. Les techniques et outils proposés sont adaptés à toutes les femmes\, et adaptables à toutes les situations d’inconfort\, d’abus ou de danger que celles-ci peuvent vivre. \nPrix: Cet atelier est très largement subventionné par le CAP\, une participation symbolique de 20.- est demandée par personne. Inscription: par mail à info@debug2.cap-epalinges.ch ou auprès des animateurices du CAP\, jusqu’au 1er mars 2025\, une autorisation parentale est requise pour les mineur e•x-s. \nLa méthode s’articule autour d’une réflexion sur les spécificités des violences faites aux femmes et sur l’influence de l’éducation et de la socialisation différenciée en fonction du genre. Le cadre en collectivité vise à créer une dynamique qui favorise la confiance et l’estime de soi et le développement de ses compétences\, ainsi que la solidarité entre femmes. A travers des échanges d’expériences et de savoirs spécifiques\, chacune peut identifier et agir sur ses peurs. \nCette proposition est aussi un joli clin d’œil à la journée internationale des droits des femmes que nous vous invitons à célébrer le 8 mars.
URL:https://debug2.cap-epalinges.ch/event/stages-dautodefense-fem-do-chi-16-25ans/
LOCATION:Centre d’animation\, GMX9+RC\, 1066 Épalinges\, Suisse
CATEGORIES:Les sorties
ATTACH;FMTTYPE=image/png:https://debug2.cap-epalinges.ch/wp-content/uploads/2025/02/thumbnail_Sujet.png
GEO:46.549578;6.668552
X-APPLE-STRUCTURED-LOCATION;VALUE=URI;X-ADDRESS=Centre d’animation GMX9+RC 1066 Épalinges Suisse;X-APPLE-RADIUS=500;X-TITLE=GMX9+RC:geo:6.668552,46.549578
END:VEVENT
BEGIN:VEVENT
DTSTART;VALUE=DATE:20250317
DTEND;VALUE=DATE:20250324
DTSTAMP:20260420T101508
CREATED:20250223T160935Z
LAST-MODIFIED:20250223T161229Z
UID:10019501-1742169600-1742774399@debug2.cap-epalinges.ch
SUMMARY:Semaine d'actions contre le racisme
DESCRIPTION:Du 17 au 23 mars 2025 se déroulera la semaine d’actions contre le racisme. A cette occasion\, le CAP te proposera différentes animations en partenariat avec le service de la Culture d’Epalinges pour te permettre de lutter et de prévenir le racisme et la discrimination raciale autour de toi. Envie de participer et de t’engager pour réduire les inégalités ?! \nN’hésite pas à nous rejoindre pour nous aider à concocter le programme de cette semaine. Pour cela il te suffit de nous en parler de vive voix\, ou de nous contacter via notre Instagram ou notre adresse e-mail. \n+ Informations et programme à venir ! \n\n\n\n\n  \n  \n 
URL:https://debug2.cap-epalinges.ch/event/semaine-dactions-contre-le-racisme/
CATEGORIES:CAP Jeunes,Les sorties
ATTACH;FMTTYPE=image/png:https://debug2.cap-epalinges.ch/wp-content/uploads/2025/02/Sujet-e1740326927209.png
END:VEVENT
BEGIN:VEVENT
DTSTART;TZID=Europe/Zurich:20250321T190000
DTEND;TZID=Europe/Zurich:20250321T220000
DTSTAMP:20260420T101508
CREATED:20250223T154137Z
LAST-MODIFIED:20250223T155801Z
UID:10019500-1742583600-1742594400@debug2.cap-epalinges.ch
SUMMARY:Dîner-Quizz LOVE... Destiné aux 12-16 ans !
DESCRIPTION:Participe à un grand jeu en équipe et teste tes connaissances sur l’amitié\, l’amour\, les relations et la sexualité! \nSoirée avec un repas offert et de nombreux prix à gagner! L’accueil libre sera fermé à cette occasion. \nQue tu te poses des questions sur tes relations amoureuses ou amicales\, que tu aies envie de partager ton expérience ou encore d’être un soutien pour tes amis\, viens réfléchir avec nous à différents sujets présents dans notre vie quotidienne comme le respect\, les comportements violents\, les relations positives\, les préjugés\, la sexualité\, etc. \nSais-tu par exemple… De quoi est faite une relation égalitaire et positive ? \n\n  C’est quoi la notion de consentement?\n  Comment aider des ami e•x•s en difficulté ?\n  Si on peut aimer plusieurs personnes à la fois ?\n  Quelles sont les formes de violence possibles dans une relation de couple?\n  Si ça fait mal de tomber amoureuse?\n\nPour cet évènement\, le CAP t’invite toi et tes ami.e.x.s à un repas au Café des Roches! De nombreux prix sont à gagner ! Les places sont limitées\, le délai d’inscription est fixé au 14 mars 2025 !  \n\n\n\n\n 
URL:https://debug2.cap-epalinges.ch/event/diner-quizz-love-destine-aux-12-16-ans/
LOCATION:café des roches
CATEGORIES:Les sorties
ATTACH;FMTTYPE=image/png:https://debug2.cap-epalinges.ch/wp-content/uploads/2025/02/thumbnail_Sujet-2.png
END:VEVENT
END:VCALENDAR