BEGIN:VCALENDAR
VERSION:2.0
PRODID:-//CAP – Debug2 - nov2025 - ECPv6.15.20//NONSGML v1.0//EN
CALSCALE:GREGORIAN
METHOD:PUBLISH
X-WR-CALNAME:CAP – Debug2 - nov2025
X-ORIGINAL-URL:https://debug2.cap-epalinges.ch
X-WR-CALDESC:Évènements pour CAP – Debug2 - nov2025
REFRESH-INTERVAL;VALUE=DURATION:PT1H
X-Robots-Tag:noindex
X-PUBLISHED-TTL:PT1H
BEGIN:VTIMEZONE
TZID:Europe/Zurich
BEGIN:DAYLIGHT
TZOFFSETFROM:+0100
TZOFFSETTO:+0200
TZNAME:CEST
DTSTART:20240331T010000
END:DAYLIGHT
BEGIN:STANDARD
TZOFFSETFROM:+0200
TZOFFSETTO:+0100
TZNAME:CET
DTSTART:20241027T010000
END:STANDARD
BEGIN:DAYLIGHT
TZOFFSETFROM:+0100
TZOFFSETTO:+0200
TZNAME:CEST
DTSTART:20250330T010000
END:DAYLIGHT
BEGIN:STANDARD
TZOFFSETFROM:+0200
TZOFFSETTO:+0100
TZNAME:CET
DTSTART:20251026T010000
END:STANDARD
BEGIN:DAYLIGHT
TZOFFSETFROM:+0100
TZOFFSETTO:+0200
TZNAME:CEST
DTSTART:20260329T010000
END:DAYLIGHT
BEGIN:STANDARD
TZOFFSETFROM:+0200
TZOFFSETTO:+0100
TZNAME:CET
DTSTART:20261025T010000
END:STANDARD
END:VTIMEZONE
BEGIN:VEVENT
DTSTART;TZID=Europe/Zurich:20250607T150000
DTEND;TZID=Europe/Zurich:20250607T220000
DTSTAMP:20260420T052955
CREATED:20250410T194556Z
LAST-MODIFIED:20250410T203054Z
UID:10020023-1749308400-1749333600@debug2.cap-epalinges.ch
SUMMARY:Anniversaire: 15 ans du CAP!
DESCRIPTION:15 ans du CAP ! Save the date ! \nTout a commencé avec le CAJE et continue aujourd’hui avec le  CAP ! Le samedi 7 juin 2025\, nous vous donnons rdv au centre d’animation pour fêter ensemble 15 ans d’animation socioculturelle à Epalinges ! C’est l’anniversaire du CAP et\, son histoire\, c’est VOUS qui l’avez écrite ! Venez nombreuses et nombreux retrouver ce lieu mythique\, l’équipe d’animation et…L’iconique baby-foot ! \nAu programme \n15h-20h: Dégustation de pizza\, rallye “du CAJE au CAP”\, bar à sirop\, la Jarette & ses trésors\, musique\, rétrospective « 15 ans d’histoire ». \n20h-21h30: Concert à « l’ancienne ». Les ancien.ne.s seront sur scène et feront vibrer les murs et les bons souvenirs !
URL:https://debug2.cap-epalinges.ch/event/anniversaire-15-ans-du-cap/
LOCATION:Centre d’animation\, GMX9+RC\, 1066 Épalinges\, Suisse
CATEGORIES:CAP Jeunes,CAP Pour Tous,Les sorties
ATTACH;FMTTYPE=image/jpeg:https://debug2.cap-epalinges.ch/wp-content/uploads/2025/04/15ans_CAP.jpg
GEO:46.549578;6.668552
X-APPLE-STRUCTURED-LOCATION;VALUE=URI;X-ADDRESS=Centre d’animation GMX9+RC 1066 Épalinges Suisse;X-APPLE-RADIUS=500;X-TITLE=GMX9+RC:geo:6.668552,46.549578
END:VEVENT
BEGIN:VEVENT
DTSTART;VALUE=DATE:20250621
DTEND;VALUE=DATE:20250622
DTSTAMP:20260420T052955
CREATED:20250223T212440Z
LAST-MODIFIED:20250223T213345Z
UID:10019504-1750464000-1750550399@debug2.cap-epalinges.ch
SUMMARY:Fête de la Musique 2025
DESCRIPTION:Cette année la fête de la musique tombe sur un samedi et ça\, c’est vraiment super ! On va pouvoir profiter à fond de cet événement ! \nDe nombreux talents musicaux Palinzards à découvrir\, une ambiance estivale et joyeuse autour du traditionnel bar à sirop du CAP\, des stands de street food délicieuse et une scène de jam et d’expérimentation musicale\, que demander de plus? \nLieu: Place de la Croix-Blanche \nHoraire: Plus d’informations suivront \nAnnonce-toi auprès de l’équipe du CAP si tu as envie de te produire sur scène à cette occasion ou si tu aimerais venir nous aider au bar à sirop. \nL’accueil libre sera fermé à cette occasion\, rejoins-nous à la fête ! On vous attend nombreu.se.x.s pour passer ensemble le premier jour de l’été!
URL:https://debug2.cap-epalinges.ch/event/fete-de-la-musique-2025/
LOCATION:Place de la Croix-Blanche\, Place Croix-Blanche\, Épalinges\, 1066\, Suisse
CATEGORIES:CAP Jeunes,CAP Pour Tous,Les sorties
ATTACH;FMTTYPE=image/jpeg:https://debug2.cap-epalinges.ch/wp-content/uploads/2025/02/PHOTO-2024-01-15-15-57-41.jpg
END:VEVENT
END:VCALENDAR