BEGIN:VCALENDAR
VERSION:2.0
PRODID:-//CAP – Debug2 - nov2025 - ECPv6.15.20//NONSGML v1.0//EN
CALSCALE:GREGORIAN
METHOD:PUBLISH
X-WR-CALNAME:CAP – Debug2 - nov2025
X-ORIGINAL-URL:https://debug2.cap-epalinges.ch
X-WR-CALDESC:Évènements pour CAP – Debug2 - nov2025
REFRESH-INTERVAL;VALUE=DURATION:PT1H
X-Robots-Tag:noindex
X-PUBLISHED-TTL:PT1H
BEGIN:VTIMEZONE
TZID:Europe/Zurich
BEGIN:DAYLIGHT
TZOFFSETFROM:+0100
TZOFFSETTO:+0200
TZNAME:CEST
DTSTART:20240331T010000
END:DAYLIGHT
BEGIN:STANDARD
TZOFFSETFROM:+0200
TZOFFSETTO:+0100
TZNAME:CET
DTSTART:20241027T010000
END:STANDARD
BEGIN:DAYLIGHT
TZOFFSETFROM:+0100
TZOFFSETTO:+0200
TZNAME:CEST
DTSTART:20250330T010000
END:DAYLIGHT
BEGIN:STANDARD
TZOFFSETFROM:+0200
TZOFFSETTO:+0100
TZNAME:CET
DTSTART:20251026T010000
END:STANDARD
BEGIN:DAYLIGHT
TZOFFSETFROM:+0100
TZOFFSETTO:+0200
TZNAME:CEST
DTSTART:20260329T010000
END:DAYLIGHT
BEGIN:STANDARD
TZOFFSETFROM:+0200
TZOFFSETTO:+0100
TZNAME:CET
DTSTART:20261025T010000
END:STANDARD
END:VTIMEZONE
BEGIN:VEVENT
DTSTART;TZID=Europe/Zurich:20251031T160000
DTEND;TZID=Europe/Zurich:20251031T220000
DTSTAMP:20260419T234533
CREATED:20251018T132225Z
LAST-MODIFIED:20251019T132151Z
UID:10020339-1761926400-1761948000@debug2.cap-epalinges.ch
SUMMARY:Soirée Halloween
DESCRIPTION:Déguisement fortement conseillé… si tu veux survivre! \nCette année\, Halloween tombe un vendredi… Et au CAP\, une soirée terriblement étrange se prépare à l’accueil libre… Les murs vont se transformer… Des ombres rôdent déjà… Des créatures mystérieuses\, des surprises qui glacent le sang\, des épreuves frissonnantes t’attendent! Mais pas de panique… ou plutôt\, panique garantie\, si tu oses franchir la porte! Seras-tu assez courageux-se pour t’aventurer dans cette nuit pleine de secrets\, de rire diabolique et de fun monstrueux avec tes ami-e-x-s? \nLieu: centre d’animation\nHoraires: 18h-22h\nDélai d’inscription: Mercredi 29 octobre
URL:https://debug2.cap-epalinges.ch/event/soiree-halloween-2/
LOCATION:Centre d’animation\, GMX9+RC\, 1066 Épalinges\, Suisse
CATEGORIES:Les sorties
ATTACH;FMTTYPE=image/jpeg:https://debug2.cap-epalinges.ch/wp-content/uploads/2024/09/halloween-7487706_1280.jpg
GEO:46.549578;6.668552
X-APPLE-STRUCTURED-LOCATION;VALUE=URI;X-ADDRESS=Centre d’animation GMX9+RC 1066 Épalinges Suisse;X-APPLE-RADIUS=500;X-TITLE=GMX9+RC:geo:6.668552,46.549578
END:VEVENT
END:VCALENDAR