BEGIN:VCALENDAR
VERSION:2.0
PRODID:-//CAP – Debug2 - nov2025 - ECPv6.15.20//NONSGML v1.0//EN
CALSCALE:GREGORIAN
METHOD:PUBLISH
X-ORIGINAL-URL:https://debug2.cap-epalinges.ch
X-WR-CALDESC:Évènements pour CAP – Debug2 - nov2025
REFRESH-INTERVAL;VALUE=DURATION:PT1H
X-Robots-Tag:noindex
X-PUBLISHED-TTL:PT1H
BEGIN:VTIMEZONE
TZID:Europe/Zurich
BEGIN:DAYLIGHT
TZOFFSETFROM:+0100
TZOFFSETTO:+0200
TZNAME:CEST
DTSTART:20240331T010000
END:DAYLIGHT
BEGIN:STANDARD
TZOFFSETFROM:+0200
TZOFFSETTO:+0100
TZNAME:CET
DTSTART:20241027T010000
END:STANDARD
BEGIN:DAYLIGHT
TZOFFSETFROM:+0100
TZOFFSETTO:+0200
TZNAME:CEST
DTSTART:20250330T010000
END:DAYLIGHT
BEGIN:STANDARD
TZOFFSETFROM:+0200
TZOFFSETTO:+0100
TZNAME:CET
DTSTART:20251026T010000
END:STANDARD
BEGIN:DAYLIGHT
TZOFFSETFROM:+0100
TZOFFSETTO:+0200
TZNAME:CEST
DTSTART:20260329T010000
END:DAYLIGHT
BEGIN:STANDARD
TZOFFSETFROM:+0200
TZOFFSETTO:+0100
TZNAME:CET
DTSTART:20261025T010000
END:STANDARD
END:VTIMEZONE
BEGIN:VEVENT
DTSTART;TZID=Europe/Zurich:20251126T160000
DTEND;TZID=Europe/Zurich:20251126T180000
DTSTAMP:20260419T215935
CREATED:20251018T132618Z
LAST-MODIFIED:20251018T132955Z
UID:10020340-1764172800-1764180000@debug2.cap-epalinges.ch
SUMMARY:Action solidaire pour Solidarité Épalinges & environs
DESCRIPTION:Et si tu faisais un petit geste à grand impact pour finir l’année? Rejoins notre collecte solidaire pour l’association Solidarité Epalinges\, qui soutient des personnes en difficulté de la commune. Le principe: au centre commercial de Croix-Blanche\, on invite les client-e-x-s à acheter des produits essentiels (pâtes\, savon\, dentifrice…) à offrir à l’association. Viens participer\, sensibiliser\, donner un coup de main. La solidarité commence près de chez soi!
URL:https://debug2.cap-epalinges.ch/event/sortie-a-bernaqua-complet/
LOCATION:Centre d’animation\, GMX9+RC\, 1066 Épalinges\, Suisse
CATEGORIES:Les sorties
ATTACH;FMTTYPE=image/png:https://debug2.cap-epalinges.ch/wp-content/uploads/2025/10/solidarite.png
GEO:46.549578;6.668552
X-APPLE-STRUCTURED-LOCATION;VALUE=URI;X-ADDRESS=Centre d’animation GMX9+RC 1066 Épalinges Suisse;X-APPLE-RADIUS=500;X-TITLE=GMX9+RC:geo:6.668552,46.549578
END:VEVENT
END:VCALENDAR