BEGIN:VCALENDAR
VERSION:2.0
PRODID:-//CAP – Debug2 - nov2025 - ECPv6.15.20//NONSGML v1.0//EN
CALSCALE:GREGORIAN
METHOD:PUBLISH
X-WR-CALNAME:CAP – Debug2 - nov2025
X-ORIGINAL-URL:https://debug2.cap-epalinges.ch
X-WR-CALDESC:Évènements pour CAP – Debug2 - nov2025
REFRESH-INTERVAL;VALUE=DURATION:PT1H
X-Robots-Tag:noindex
X-PUBLISHED-TTL:PT1H
BEGIN:VTIMEZONE
TZID:Europe/Zurich
BEGIN:DAYLIGHT
TZOFFSETFROM:+0100
TZOFFSETTO:+0200
TZNAME:CEST
DTSTART:20180325T010000
END:DAYLIGHT
BEGIN:STANDARD
TZOFFSETFROM:+0200
TZOFFSETTO:+0100
TZNAME:CET
DTSTART:20181028T010000
END:STANDARD
BEGIN:DAYLIGHT
TZOFFSETFROM:+0100
TZOFFSETTO:+0200
TZNAME:CEST
DTSTART:20190331T010000
END:DAYLIGHT
BEGIN:STANDARD
TZOFFSETFROM:+0200
TZOFFSETTO:+0100
TZNAME:CET
DTSTART:20191027T010000
END:STANDARD
BEGIN:DAYLIGHT
TZOFFSETFROM:+0100
TZOFFSETTO:+0200
TZNAME:CEST
DTSTART:20200329T010000
END:DAYLIGHT
BEGIN:STANDARD
TZOFFSETFROM:+0200
TZOFFSETTO:+0100
TZNAME:CET
DTSTART:20201025T010000
END:STANDARD
BEGIN:DAYLIGHT
TZOFFSETFROM:+0100
TZOFFSETTO:+0200
TZNAME:CEST
DTSTART:20210328T010000
END:DAYLIGHT
BEGIN:STANDARD
TZOFFSETFROM:+0200
TZOFFSETTO:+0100
TZNAME:CET
DTSTART:20211031T010000
END:STANDARD
BEGIN:DAYLIGHT
TZOFFSETFROM:+0100
TZOFFSETTO:+0200
TZNAME:CEST
DTSTART:20220327T010000
END:DAYLIGHT
BEGIN:STANDARD
TZOFFSETFROM:+0200
TZOFFSETTO:+0100
TZNAME:CET
DTSTART:20221030T010000
END:STANDARD
BEGIN:DAYLIGHT
TZOFFSETFROM:+0100
TZOFFSETTO:+0200
TZNAME:CEST
DTSTART:20230326T010000
END:DAYLIGHT
BEGIN:STANDARD
TZOFFSETFROM:+0200
TZOFFSETTO:+0100
TZNAME:CET
DTSTART:20231029T010000
END:STANDARD
BEGIN:DAYLIGHT
TZOFFSETFROM:+0100
TZOFFSETTO:+0200
TZNAME:CEST
DTSTART:20240331T010000
END:DAYLIGHT
BEGIN:STANDARD
TZOFFSETFROM:+0200
TZOFFSETTO:+0100
TZNAME:CET
DTSTART:20241027T010000
END:STANDARD
BEGIN:DAYLIGHT
TZOFFSETFROM:+0100
TZOFFSETTO:+0200
TZNAME:CEST
DTSTART:20250330T010000
END:DAYLIGHT
BEGIN:STANDARD
TZOFFSETFROM:+0200
TZOFFSETTO:+0100
TZNAME:CET
DTSTART:20251026T010000
END:STANDARD
BEGIN:DAYLIGHT
TZOFFSETFROM:+0100
TZOFFSETTO:+0200
TZNAME:CEST
DTSTART:20260329T010000
END:DAYLIGHT
BEGIN:STANDARD
TZOFFSETFROM:+0200
TZOFFSETTO:+0100
TZNAME:CET
DTSTART:20261025T010000
END:STANDARD
END:VTIMEZONE
BEGIN:VEVENT
DTSTART;TZID=Europe/Zurich:20251215T090000
DTEND;TZID=Europe/Zurich:20251215T110000
DTSTAMP:20260423T164552
CREATED:20240904T134733Z
LAST-MODIFIED:20250714T164906Z
UID:10020057-1765789200-1765796400@debug2.cap-epalinges.ch
SUMMARY:Accueil parents-enfants
DESCRIPTION:Vous êtes parents ou vous vous occupez d’un enfant entre 0 et 4 ans ? Vous souhaitez pouvoir rencontrer d’autres parents et échanger autour des questions de parentalité ? Vous aimeriez que votre enfant puisse jouer avec d’autres enfants ?\nNous vous proposons un espace de rencontre et d’échange les lundis entre 9h et 11h au Pavillon de la Courte Echelle (Ch. Marcel Regamey\, derrière le collège de la Croix-Blanche).\nQue vous veniez tous les lundis ou juste une fois\, 10 minutes ou 2 heures\, c’est avec grand plaisir que nous vous présenterons le lieu et sa philosophie. \n Infos complètes ici \nPartagez0 Partages
URL:https://debug2.cap-epalinges.ch/event/accueil-parents-enfants/2025-12-15/
LOCATION:Pavillon en bois – Ch. Marcel Regamey\, Ch. Marcel Regamey\, Epalinges\, Vaud\, 1066\, Suisse
CATEGORIES:2.events récurrents
END:VEVENT
BEGIN:VEVENT
DTSTART;TZID=Europe/Zurich:20191216T090000
DTEND;TZID=Europe/Zurich:20191216T110000
DTSTAMP:20260423T164552
CREATED:20191107T171531Z
LAST-MODIFIED:20210811T143123Z
UID:10015890-1576486800-1576494000@debug2.cap-epalinges.ch
SUMMARY:Brunch de l'accueil parents-enfants
DESCRIPTION:Pour fêter la fin d’année et se retrouver autour d’un moment convivial\, nous vous invitons à venir partager un brunch de Noël ! \nAu plaisir de vous retrouver nombreuses et nombreux ! \nPartagez0 Partages
URL:https://debug2.cap-epalinges.ch/event/brunch-de-laccueil-parents-enfants/
LOCATION:Pavillon en bois – Ch. Marcel Regamey\, Ch. Marcel Regamey\, Epalinges\, Vaud\, 1066\, Suisse
CATEGORIES:CAP Enfants,CAP Pour Tous
END:VEVENT
END:VCALENDAR